﻿BEGIN:VCALENDAR
VERSION:2.0
PRODID:-//Criminal Justice Commission - ECPv5.3.2.1//NONSGML v1.0//EN
CALSCALE:GREGORIAN
METHOD:PUBLISH
X-WR-CALNAME:Criminal Justice Commission
X-ORIGINAL-URL:https://icjc.idaho.gov
X-WR-CALDESC:Events for Criminal Justice Commission
BEGIN:VTIMEZONE
TZID:America/Boise
BEGIN:DAYLIGHT
TZOFFSETFROM:-0700
TZOFFSETTO:-0600
TZNAME:MDT
DTSTART:20230312T090000
END:DAYLIGHT
BEGIN:STANDARD
TZOFFSETFROM:-0600
TZOFFSETTO:-0700
TZNAME:MST
DTSTART:20231105T080000
END:STANDARD
END:VTIMEZONE
BEGIN:VEVENT
DTSTART;VALUE=DATE:20230220
DTEND;VALUE=DATE:20230221
DTSTAMP:20210912T212444
CREATED:20190307T165133Z
LAST-MODIFIED:20190307T165133Z
UID:1006-1676851200-1676937599@icjc.idaho.gov
SUMMARY:Washington's Birthday (closed)
DESCRIPTION:State holiday observed and we will be closed.
URL:https://icjc.idaho.gov/event/washingtons-birthday/2023-02-20/
CATEGORIES:Holiday
END:VEVENT
END:VCALENDAR