﻿BEGIN:VCALENDAR
VERSION:2.0
PRODID:-//Criminal Justice Commission - ECPv5.3.2.1//NONSGML v1.0//EN
CALSCALE:GREGORIAN
METHOD:PUBLISH
X-WR-CALNAME:Criminal Justice Commission
X-ORIGINAL-URL:https://icjc.idaho.gov
X-WR-CALDESC:Events for Criminal Justice Commission
BEGIN:VTIMEZONE
TZID:America/Boise
BEGIN:DAYLIGHT
TZOFFSETFROM:-0700
TZOFFSETTO:-0600
TZNAME:MDT
DTSTART:20210314T090000
END:DAYLIGHT
BEGIN:STANDARD
TZOFFSETFROM:-0600
TZOFFSETTO:-0700
TZNAME:MST
DTSTART:20211107T080000
END:STANDARD
END:VTIMEZONE
BEGIN:VEVENT
DTSTART;TZID=America/Boise:20211029T080000
DTEND;TZID=America/Boise:20211029T120000
DTSTAMP:20210914T152849
CREATED:20191127T175333Z
LAST-MODIFIED:20210111T151403Z
UID:726-1635494400-1635508800@icjc.idaho.gov
SUMMARY:ICJC October Regular Meeting
DESCRIPTION:
URL:https://icjc.idaho.gov/event/icjc-october-regular-meeting-3/2021-10-29/
LOCATION:Local Government Center\, 3100 S. Vista Ave.\, Boise\, ID\, 83705\, United States
ORGANIZER;CN="Kelli%20D%20Brassfield":MAILTO:kbrassfield&quot;idcounties.org
END:VEVENT
END:VCALENDAR